BEGIN:VCALENDAR
VERSION:2.0
PRODID:-//Site de la commune de Fitz-James - ECPv5.3.1.1//NONSGML v1.0//EN
CALSCALE:GREGORIAN
METHOD:PUBLISH
X-WR-CALNAME:Site de la commune de Fitz-James
X-ORIGINAL-URL:https://www.commune-fitz-james.fr
X-WR-CALDESC:évènements pour Site de la commune de Fitz-James
BEGIN:VTIMEZONE
TZID:Europe/Paris
BEGIN:DAYLIGHT
TZOFFSETFROM:+0100
TZOFFSETTO:+0200
TZNAME:CEST
DTSTART:20250330T010000
END:DAYLIGHT
BEGIN:STANDARD
TZOFFSETFROM:+0200
TZOFFSETTO:+0100
TZNAME:CET
DTSTART:20251026T010000
END:STANDARD
END:VTIMEZONE
BEGIN:VEVENT
DTSTART;TZID=Europe/Paris:20250424T140000
DTEND;TZID=Europe/Paris:20250424T140000
DTSTAMP:20260423T170554
CREATED:20250314T142642Z
LAST-MODIFIED:20250314T142642Z
UID:19827-1745503200-1745503200@www.commune-fitz-james.fr
SUMMARY:SÉNIORS CODE DE LA ROUTE
DESCRIPTION:Réviser ses connaissances\nDécouvrir les nouvelles réglementations\nSavoir adapter sa conduite
URL:https://www.commune-fitz-james.fr/evenement/seniors-code-de-la-route/
LOCATION:Salle des Fêtes Pierre Mendès-France\, 9 rue Louis Aragon\, Fitz-James\, 60600\, France
ATTACH;FMTTYPE=image/jpeg:https://www.commune-fitz-james.fr/wp-content/uploads/2025/03/seniors.jpg
END:VEVENT
END:VCALENDAR