BEGIN:VCALENDAR
VERSION:2.0
PRODID:-//Site de la commune de Fitz-James - ECPv5.3.1.1//NONSGML v1.0//EN
CALSCALE:GREGORIAN
METHOD:PUBLISH
X-WR-CALNAME:Site de la commune de Fitz-James
X-ORIGINAL-URL:https://www.commune-fitz-james.fr
X-WR-CALDESC:évènements pour Site de la commune de Fitz-James
BEGIN:VTIMEZONE
TZID:Europe/Paris
BEGIN:DAYLIGHT
TZOFFSETFROM:+0100
TZOFFSETTO:+0200
TZNAME:CEST
DTSTART:20250330T010000
END:DAYLIGHT
BEGIN:STANDARD
TZOFFSETFROM:+0200
TZOFFSETTO:+0100
TZNAME:CET
DTSTART:20251026T010000
END:STANDARD
END:VTIMEZONE
BEGIN:VEVENT
DTSTART;VALUE=DATE:20250827
DTEND;VALUE=DATE:20250828
DTSTAMP:20260422T152015
CREATED:20250825T152326Z
LAST-MODIFIED:20250825T152326Z
UID:20336-1756252800-1756339199@www.commune-fitz-james.fr
SUMMARY:Passage de la balayeuse – Mercredi 27 août 2025
DESCRIPTION:La balayeuse interviendra dans les rues de la commune le mercredi 25 août 2025. \n👉 Merci de libérer la voie publique (rues\, trottoirs) de tout véhicule ou encombrant afin de faciliter le nettoyage. \nNous vous remercions pour votre collaboration et votre civisme.
URL:https://www.commune-fitz-james.fr/evenement/passage-de-la-balayeuse-mercredi-27-aout-2025/
LOCATION:Commune de Fitz-James
END:VEVENT
END:VCALENDAR