BEGIN:VCALENDAR
VERSION:2.0
PRODID:-//Site de la commune de Fitz-James - ECPv5.3.1.1//NONSGML v1.0//EN
CALSCALE:GREGORIAN
METHOD:PUBLISH
X-WR-CALNAME:Site de la commune de Fitz-James
X-ORIGINAL-URL:https://www.commune-fitz-james.fr
X-WR-CALDESC:évènements pour Site de la commune de Fitz-James
BEGIN:VTIMEZONE
TZID:Europe/Paris
BEGIN:DAYLIGHT
TZOFFSETFROM:+0100
TZOFFSETTO:+0200
TZNAME:CEST
DTSTART:20250330T010000
END:DAYLIGHT
BEGIN:STANDARD
TZOFFSETFROM:+0200
TZOFFSETTO:+0100
TZNAME:CET
DTSTART:20251026T010000
END:STANDARD
END:VTIMEZONE
BEGIN:VEVENT
DTSTART;TZID=Europe/Paris:20250421T103000
DTEND;TZID=Europe/Paris:20250421T170000
DTSTAMP:20260423T155030
CREATED:20250401T092444Z
LAST-MODIFIED:20250401T092603Z
UID:19859-1745231400-1745254800@www.commune-fitz-james.fr
SUMMARY:MATINÉE DE PÂQUES
DESCRIPTION:Lundi 21 avril 2025\, RDV à partir de 10h30au Béguinage de Fitz-James. \nRéservé aux enfants de 2 à 11 accompagnés d’un adulte. \nPour tout renseignement : 06.83.84.80.51 \n 
URL:https://www.commune-fitz-james.fr/evenement/matinee-de-paques-3/
LOCATION:Résidence séniors du béguinage\, Rue du Blamont\, Fitz-James\, 60600\, France
CATEGORIES:Fête communale
ATTACH;FMTTYPE=image/png:https://www.commune-fitz-james.fr/wp-content/uploads/2025/04/chasse-aux-oeufs-FJ.png
ORGANIZER;CN="Comit%C3%A9%20des%20f%C3%AAtes":MAILTO:cdf.60.fitzjames@gmail.com
END:VEVENT
END:VCALENDAR