BEGIN:VCALENDAR
VERSION:2.0
PRODID:-//Site de la commune de Fitz-James - ECPv5.3.1.1//NONSGML v1.0//EN
CALSCALE:GREGORIAN
METHOD:PUBLISH
X-WR-CALNAME:Site de la commune de Fitz-James
X-ORIGINAL-URL:https://www.commune-fitz-james.fr
X-WR-CALDESC:évènements pour Site de la commune de Fitz-James
BEGIN:VTIMEZONE
TZID:Europe/Paris
BEGIN:DAYLIGHT
TZOFFSETFROM:+0100
TZOFFSETTO:+0200
TZNAME:CEST
DTSTART:20260329T010000
END:DAYLIGHT
BEGIN:STANDARD
TZOFFSETFROM:+0200
TZOFFSETTO:+0100
TZNAME:CET
DTSTART:20261025T010000
END:STANDARD
END:VTIMEZONE
BEGIN:VEVENT
DTSTART;VALUE=DATE:20260426
DTEND;VALUE=DATE:20260427
DTSTAMP:20260421T134800
CREATED:20260212T094153Z
LAST-MODIFIED:20260212T094153Z
UID:20616-1777161600-1777247999@www.commune-fitz-james.fr
SUMMARY:MARCHE FLORAL
DESCRIPTION:
URL:https://www.commune-fitz-james.fr/evenement/marche-floral-2/
LOCATION:Salle des Fêtes Pierre Mendès-France\, 9 rue Louis Aragon\, Fitz-James\, 60600\, France
ORGANIZER;CN="Comit%C3%A9%20des%20f%C3%AAtes":MAILTO:cdf.60.fitzjames@gmail.com
END:VEVENT
END:VCALENDAR