BEGIN:VCALENDAR
VERSION:2.0
PRODID:-//Site de la commune de Fitz-James - ECPv5.3.1.1//NONSGML v1.0//EN
CALSCALE:GREGORIAN
METHOD:PUBLISH
X-WR-CALNAME:Site de la commune de Fitz-James
X-ORIGINAL-URL:https://www.commune-fitz-james.fr
X-WR-CALDESC:évènements pour Site de la commune de Fitz-James
BEGIN:VTIMEZONE
TZID:Europe/Paris
BEGIN:DAYLIGHT
TZOFFSETFROM:+0100
TZOFFSETTO:+0200
TZNAME:CEST
DTSTART:20250330T010000
END:DAYLIGHT
BEGIN:STANDARD
TZOFFSETFROM:+0200
TZOFFSETTO:+0100
TZNAME:CET
DTSTART:20251026T010000
END:STANDARD
END:VTIMEZONE
BEGIN:VEVENT
DTSTART;VALUE=DATE:20251129
DTEND;VALUE=DATE:20251201
DTSTAMP:20260423T205743
CREATED:20251113T161627Z
LAST-MODIFIED:20251113T161627Z
UID:20527-1764374400-1764547199@www.commune-fitz-james.fr
SUMMARY:Marché de Noël de l'Oise
DESCRIPTION:
URL:https://www.commune-fitz-james.fr/evenement/marche-de-noel-de-loise/
END:VEVENT
END:VCALENDAR