BEGIN:VCALENDAR
VERSION:2.0
PRODID:-//Site de la commune de Fitz-James - ECPv5.3.1.1//NONSGML v1.0//EN
CALSCALE:GREGORIAN
METHOD:PUBLISH
X-WR-CALNAME:Site de la commune de Fitz-James
X-ORIGINAL-URL:https://www.commune-fitz-james.fr
X-WR-CALDESC:évènements pour Site de la commune de Fitz-James
BEGIN:VTIMEZONE
TZID:Europe/Paris
BEGIN:DAYLIGHT
TZOFFSETFROM:+0100
TZOFFSETTO:+0200
TZNAME:CEST
DTSTART:20250330T010000
END:DAYLIGHT
BEGIN:STANDARD
TZOFFSETFROM:+0200
TZOFFSETTO:+0100
TZNAME:CET
DTSTART:20251026T010000
END:STANDARD
END:VTIMEZONE
BEGIN:VEVENT
DTSTART;TZID=Europe/Paris:20250709T140000
DTEND;TZID=Europe/Paris:20250709T170000
DTSTAMP:20260422T152108
CREATED:20250507T082345Z
LAST-MODIFIED:20250623T080041Z
UID:20055-1752069600-1752080400@www.commune-fitz-james.fr
SUMMARY:LE BUS POUR L'EMPLOI
DESCRIPTION:Le Bus pour l’Emploi fait étape à Fitz-James ! \nMercredi 9 juillet de 14h à 17h – Rue Émile Combes \nVous êtes à la recherche d’un emploi\, d’un stage ou d’une formation ? Ne manquez pas le passage du Bus pour l’Emploi à Fitz-James ! \nCe dispositif mobile\, accessible à tous\, vous permet de rencontrer des conseillers emploi\, de consulter des offres d’emploi\, de bénéficier d’une aide à la rédaction de CV et lettres de motivation\, ou encore d’obtenir des conseils pour vos entretiens d’embauche. \n📍 Où ? Rue Émile Combes\n🕒 Quand ? Mercredi 9 juillet de 14h à 17h \nVenez avec votre CV si vous en avez un\, ou profitez-en pour en créer un sur place avec l’aide des professionnels présents. \nEntrée libre et gratuite. \n 
URL:https://www.commune-fitz-james.fr/evenement/le-bus-pour-lemploi/
LOCATION:Rue Émile Combes\, Rue Émile Combes\, Fitz-James\, 60600\, France
ATTACH;FMTTYPE=image/jpeg:https://www.commune-fitz-james.fr/wp-content/uploads/2025/05/Bus-pour-lemploi.jpg
ORGANIZER;CN="D%C3%A9partement":MAILTO:bus4-emploi@oise.fr
END:VEVENT
END:VCALENDAR