BEGIN:VCALENDAR
VERSION:2.0
PRODID:-//Site de la commune de Fitz-James - ECPv5.3.1.1//NONSGML v1.0//EN
CALSCALE:GREGORIAN
METHOD:PUBLISH
X-WR-CALNAME:Site de la commune de Fitz-James
X-ORIGINAL-URL:https://www.commune-fitz-james.fr
X-WR-CALDESC:évènements pour Site de la commune de Fitz-James
BEGIN:VTIMEZONE
TZID:Europe/Paris
BEGIN:DAYLIGHT
TZOFFSETFROM:+0100
TZOFFSETTO:+0200
TZNAME:CEST
DTSTART:20250330T010000
END:DAYLIGHT
BEGIN:STANDARD
TZOFFSETFROM:+0200
TZOFFSETTO:+0100
TZNAME:CET
DTSTART:20251026T010000
END:STANDARD
END:VTIMEZONE
BEGIN:VEVENT
DTSTART;TZID=Europe/Paris:20251210T140000
DTEND;TZID=Europe/Paris:20251210T170000
DTSTAMP:20260423T022355
CREATED:20250929T084805Z
LAST-MODIFIED:20250929T084805Z
UID:20411-1765375200-1765386000@www.commune-fitz-james.fr
SUMMARY:LE BUS POUR L'EMPLOI - 10 DEC 2025
DESCRIPTION:Le Bus pour l’Emploi fait étape à Fitz-James ! \nMercredi 10 décembre de 14h à 17h – Rue Émile Combes \nVous êtes à la recherche d’un emploi\, d’un stage ou d’une formation ? Ne manquez pas le passage du Bus pour l’Emploi à Fitz-James ! \nCe dispositif mobile\, accessible à tous\, vous permet de rencontrer des conseillers emploi\, de consulter des offres d’emploi\, de bénéficier d’une aide à la rédaction de CV et lettres de motivation\, ou encore d’obtenir des conseils pour vos entretiens d’embauche. \n📍 Où ? Rue Émile Combes\n🕒 Quand ? Mercredi 10 décembre de 14h à 17h \nVenez avec votre CV si vous en avez un\, ou profitez-en pour en créer un sur place avec l’aide des professionnels présents. \nEntrée libre et gratuite.
URL:https://www.commune-fitz-james.fr/evenement/le-bus-pour-lemploi-10-dec-2025/
LOCATION:Rue Émile Combes\, Rue Émile Combes\, Fitz-James\, 60600\, France
END:VEVENT
END:VCALENDAR