BEGIN:VCALENDAR
VERSION:2.0
PRODID:-//Site de la commune de Fitz-James - ECPv5.3.1.1//NONSGML v1.0//EN
CALSCALE:GREGORIAN
METHOD:PUBLISH
X-WR-CALNAME:Site de la commune de Fitz-James
X-ORIGINAL-URL:https://www.commune-fitz-james.fr
X-WR-CALDESC:évènements pour Site de la commune de Fitz-James
BEGIN:VTIMEZONE
TZID:Europe/Paris
BEGIN:DAYLIGHT
TZOFFSETFROM:+0100
TZOFFSETTO:+0200
TZNAME:CEST
DTSTART:20250330T010000
END:DAYLIGHT
BEGIN:STANDARD
TZOFFSETFROM:+0200
TZOFFSETTO:+0100
TZNAME:CET
DTSTART:20251026T010000
END:STANDARD
END:VTIMEZONE
BEGIN:VEVENT
DTSTART;TZID=Europe/Paris:20250712T140000
DTEND;TZID=Europe/Paris:20250712T170000
DTSTAMP:20260422T134825
CREATED:20250626T154413Z
LAST-MODIFIED:20250626T154512Z
UID:20147-1752328800-1752339600@www.commune-fitz-james.fr
SUMMARY:Jeu "prends Le Bus" à Clermont
DESCRIPTION:  \n \n“Jeu prends Le Bus” : Une aventure grandeur nature – 3 heures d’aventure non-stop ! \nLe Pays du Clermontois et son exploitant\, Transdev Oise Cabaro\, vous invite à vivre une expérience pas comme les autres : « Jeu prends le Bus »\, un parcours dynamique pour découvrir autrement la ville… Cerise sur le gâteau\, le réseau Le Bus sera gratuit du 7 juillet au 31 août ! \nPartez pour une aventure originale avec « Jeu prends le Bus »\, un événement GRATUIT mêlant jeu de piste\, mini-course et escape game… dans un vrai bus ! \nRendez-vous le samedi 12 juillet à 14h devant le Cinéma du Clermontois (sur inscription) : \nAu programme : \n Jeu de piste chez les commerçants\n Course de minibus télécommandés\n Escape game dans un bus en panne \nVotre mission (si vous l’acceptez) : vous amuser en (re)découvrant les mobilités locales et les commerces de proximité. \n À partir de 6 ans (moins de 12 ans accompagnés d’un adulte). \n Infos et inscriptions (places limitées) au 03 44 50 85 00 ou à mobilite@pays-clermontois.fr  \n 
URL:https://www.commune-fitz-james.fr/evenement/jeu-prends-le-bus-a-clermont/
LOCATION:Cinema du Clermontois\, 60600
END:VEVENT
END:VCALENDAR