BEGIN:VCALENDAR
VERSION:2.0
PRODID:-//Site de la commune de Fitz-James - ECPv5.3.1.1//NONSGML v1.0//EN
CALSCALE:GREGORIAN
METHOD:PUBLISH
X-WR-CALNAME:Site de la commune de Fitz-James
X-ORIGINAL-URL:https://www.commune-fitz-james.fr
X-WR-CALDESC:évènements pour Site de la commune de Fitz-James
BEGIN:VTIMEZONE
TZID:Europe/Paris
BEGIN:DAYLIGHT
TZOFFSETFROM:+0100
TZOFFSETTO:+0200
TZNAME:CEST
DTSTART:20250330T010000
END:DAYLIGHT
BEGIN:STANDARD
TZOFFSETFROM:+0200
TZOFFSETTO:+0100
TZNAME:CET
DTSTART:20251026T010000
END:STANDARD
END:VTIMEZONE
BEGIN:VEVENT
DTSTART;TZID=Europe/Paris:20251205T090000
DTEND;TZID=Europe/Paris:20251205T130000
DTSTAMP:20260423T222415
CREATED:20251126T161255Z
LAST-MODIFIED:20251126T161255Z
UID:20541-1764925200-1764939600@www.commune-fitz-james.fr
SUMMARY:Forum du Volontariat\, du Bénévolat et de la Mobilité Internationale
DESCRIPTION:
URL:https://www.commune-fitz-james.fr/evenement/forum-du-volontariat-du-benevolat-et-de-la-mobilite-internationale/
LOCATION:313 Chaussée Traversière\, 60600 Agnetz\, 313 chaussée Traversière\, Agnetz\, 60600\, France
END:VEVENT
END:VCALENDAR