BEGIN:VCALENDAR
VERSION:2.0
PRODID:-//Site de la commune de Fitz-James - ECPv5.3.1.1//NONSGML v1.0//EN
CALSCALE:GREGORIAN
METHOD:PUBLISH
X-WR-CALNAME:Site de la commune de Fitz-James
X-ORIGINAL-URL:https://www.commune-fitz-james.fr
X-WR-CALDESC:évènements pour Site de la commune de Fitz-James
BEGIN:VTIMEZONE
TZID:Europe/Paris
BEGIN:DAYLIGHT
TZOFFSETFROM:+0100
TZOFFSETTO:+0200
TZNAME:CEST
DTSTART:20250330T010000
END:DAYLIGHT
BEGIN:STANDARD
TZOFFSETFROM:+0200
TZOFFSETTO:+0100
TZNAME:CET
DTSTART:20251026T010000
END:STANDARD
END:VTIMEZONE
BEGIN:VEVENT
DTSTART;TZID=Europe/Paris:20250901T100000
DTEND;TZID=Europe/Paris:20250912T170000
DTSTAMP:20260422T170932
CREATED:20250812T151110Z
LAST-MODIFIED:20250812T151110Z
UID:20305-1756720800-1757696400@www.commune-fitz-james.fr
SUMMARY:Exposition sur le Projet d'Aménagement et de Développement Durables
DESCRIPTION:Exposition sur le Projet d’Aménagement et de Développement Durables (PADD) – PLUI-HM \nDans le cadre de l’élaboration du Plan Local d’Urbanisme intercommunal valant programme local de l’habitat et de mobilité (PLUI-HM)\, une exposition itinérante est organisée pour informer les habitants des grandes orientations du Projet d’Aménagement et de Développement Durables (PADD). \n📍 Trois panneaux d’information seront exposés à l’accueil de la mairie de Fitz-James du 1er  au 12 septembre 2025.\nIls présentent les grands axes du projet : \n\n\nAxe 1 : Être un territoire de proximité – Conforter la cohésion du Pays du Clermontois \n\n\nAxe 2 : Être un territoire d’ouverture – Favoriser le développement économique \n\n\nAxe 3 : Être un territoire du bien vivre – Valoriser la ruralité \n\n\nVenez les consulter en mairie pour découvrir les grandes orientations de l’avenir de notre territoire !
URL:https://www.commune-fitz-james.fr/evenement/exposition-sur-le-projet-damenagement-et-de-developpement-durables-2/
LOCATION:Mairie\, 21 rue Jules Ferry\, Fitz-James\, 60600\, France
END:VEVENT
END:VCALENDAR