BEGIN:VCALENDAR
VERSION:2.0
PRODID:-//Site de la commune de Fitz-James - ECPv5.3.1.1//NONSGML v1.0//EN
CALSCALE:GREGORIAN
METHOD:PUBLISH
X-WR-CALNAME:Site de la commune de Fitz-James
X-ORIGINAL-URL:https://www.commune-fitz-james.fr
X-WR-CALDESC:évènements pour Site de la commune de Fitz-James
BEGIN:VTIMEZONE
TZID:Europe/Paris
BEGIN:DAYLIGHT
TZOFFSETFROM:+0100
TZOFFSETTO:+0200
TZNAME:CEST
DTSTART:20250330T010000
END:DAYLIGHT
BEGIN:STANDARD
TZOFFSETFROM:+0200
TZOFFSETTO:+0100
TZNAME:CET
DTSTART:20251026T010000
END:STANDARD
END:VTIMEZONE
BEGIN:VEVENT
DTSTART;TZID=Europe/Paris:20250714T090000
DTEND;TZID=Europe/Paris:20250714T120000
DTSTAMP:20260422T121148
CREATED:20250708T124117Z
LAST-MODIFIED:20250708T124117Z
UID:20189-1752483600-1752494400@www.commune-fitz-james.fr
SUMMARY:Cérémonie du 14 juillet 2025 à Fitz-James
DESCRIPTION:Monsieur Jean-Claude PELLERIN\, Maire de Fitz-James\, et le Conseil Municipal ont le plaisir de vous convier à la cérémonie commémorative du 14 juillet\, en hommage aux morts pour la France. \nDépart du cortège :\nLundi 14 juillet 2025 à 9h\nPlace de la République \nÀ l’issue de la cérémonie\, un moment de convivialité vous sera proposé à l’espace Pierre Perret\, 17 rue Jules Ferry. \nVenez nombreux pour célébrer ensemble cette journée de mémoire et de fraternité républicaine.
URL:https://www.commune-fitz-james.fr/evenement/ceremonie-du-14-juillet-2025-a-fitz-james/
LOCATION:Place de la République\, Place de la République\, Fitz-James\, 60600\, France
ORGANIZER;CN="Mairie":MAILTO:accueil@commune-fitz-james.fr
END:VEVENT
END:VCALENDAR