BEGIN:VCALENDAR
VERSION:2.0
PRODID:-//Site de la commune de Fitz-James - ECPv5.3.1.1//NONSGML v1.0//EN
CALSCALE:GREGORIAN
METHOD:PUBLISH
X-WR-CALNAME:Site de la commune de Fitz-James
X-ORIGINAL-URL:https://www.commune-fitz-james.fr
X-WR-CALDESC:évènements pour Site de la commune de Fitz-James
BEGIN:VTIMEZONE
TZID:Europe/Paris
BEGIN:DAYLIGHT
TZOFFSETFROM:+0100
TZOFFSETTO:+0200
TZNAME:CEST
DTSTART:20250330T010000
END:DAYLIGHT
BEGIN:STANDARD
TZOFFSETFROM:+0200
TZOFFSETTO:+0100
TZNAME:CET
DTSTART:20251026T010000
END:STANDARD
END:VTIMEZONE
BEGIN:VEVENT
DTSTART;TZID=Europe/Paris:20250425T080000
DTEND;TZID=Europe/Paris:20250428T170000
DTSTAMP:20260423T182131
CREATED:20250418T083916Z
LAST-MODIFIED:20250418T084230Z
UID:19930-1745568000-1745859600@www.commune-fitz-james.fr
SUMMARY:CAMPAGNE DÉRATISATION 2025
DESCRIPTION:Dératisation du réseau d’assainissement – Intervention programmée \nLa commune de Fitz-James informe ses administrés qu’une opération de dératisation du réseau d’assainissement sera réalisée par le prestataire NUISIBLES INTERVENTION du 25 au 28 avril 2025. \nCette intervention vise à garantir la salubrité et l’hygiène du réseau.\nNous vous remercions de votre compréhension.
URL:https://www.commune-fitz-james.fr/evenement/campagne-deratisation-2025/
LOCATION:Commune de Fitz-James
ATTACH;FMTTYPE=image/jpeg:https://www.commune-fitz-james.fr/wp-content/uploads/2025/04/deratisation.jpg
END:VEVENT
END:VCALENDAR