BEGIN:VCALENDAR
VERSION:2.0
PRODID:-//Site de la commune de Fitz-James - ECPv5.3.1.1//NONSGML v1.0//EN
CALSCALE:GREGORIAN
METHOD:PUBLISH
X-WR-CALNAME:Site de la commune de Fitz-James
X-ORIGINAL-URL:https://www.commune-fitz-james.fr
X-WR-CALDESC:évènements pour Site de la commune de Fitz-James
BEGIN:VTIMEZONE
TZID:Europe/Paris
BEGIN:DAYLIGHT
TZOFFSETFROM:+0100
TZOFFSETTO:+0200
TZNAME:CEST
DTSTART:20250330T010000
END:DAYLIGHT
BEGIN:STANDARD
TZOFFSETFROM:+0200
TZOFFSETTO:+0100
TZNAME:CET
DTSTART:20251026T010000
END:STANDARD
END:VTIMEZONE
BEGIN:VEVENT
DTSTART;TZID=Europe/Paris:20250818T080000
DTEND;TZID=Europe/Paris:20250830T170000
DTSTAMP:20260422T133749
CREATED:20250428T120751Z
LAST-MODIFIED:20250428T120751Z
UID:19981-1755504000-1756573200@www.commune-fitz-james.fr
SUMMARY:BUREAU DE POSTE FERMETURE ESTIVALE
DESCRIPTION:Madame\, Monsieur \nConformément aux dispositions du Contrat de Présence Postale Territoriale 2023-2025 en matière de mesures estivales\, je vous informe que La Poste bureau de Fitz-James sera fermée du lundi 18 au samedi 30 aout 2025 en raison de la diminution de la fréquentation pendant la période estivale. \nLe bureau reprendra ses horaires habituels a compter du lundi 1er septembre 2025. Durant cette période\, l’offre de La Poste reste disponible dans le point de contact suivant: \nLa Poste bureau de Clermont située 2 Place Jean Corroyer ouverte lundi\, mardi\, mercredi et vendredi de 09h00 a 12h00 et de 14h00 a 17h00\,jeudi et samedi de 09h00 a 12h00. \nLes services de La Poste et de La Banque Postale sont également accessibles en ligne: www.laposte.fr et www.labanquepostale.fr \nLa Mairie.
URL:https://www.commune-fitz-james.fr/evenement/bureau-de-poste-fermeture-estivale/
LOCATION:LA POSTE\, 16 place de la république\, Fitz-James\, 60600
END:VEVENT
END:VCALENDAR