BEGIN:VCALENDAR
VERSION:2.0
PRODID:-//Site de la commune de Fitz-James - ECPv5.3.1.1//NONSGML v1.0//EN
CALSCALE:GREGORIAN
METHOD:PUBLISH
X-WR-CALNAME:Site de la commune de Fitz-James
X-ORIGINAL-URL:https://www.commune-fitz-james.fr
X-WR-CALDESC:évènements pour Site de la commune de Fitz-James
BEGIN:VTIMEZONE
TZID:Europe/Paris
BEGIN:DAYLIGHT
TZOFFSETFROM:+0100
TZOFFSETTO:+0200
TZNAME:CEST
DTSTART:20250330T010000
END:DAYLIGHT
BEGIN:STANDARD
TZOFFSETFROM:+0200
TZOFFSETTO:+0100
TZNAME:CET
DTSTART:20251026T010000
END:STANDARD
END:VTIMEZONE
BEGIN:VEVENT
DTSTART;VALUE=DATE:20250914
DTEND;VALUE=DATE:20250915
DTSTAMP:20260422T184824
CREATED:20250626T153032Z
LAST-MODIFIED:20250904T114820Z
UID:20144-1757808000-1757894399@www.commune-fitz-james.fr
SUMMARY:27ème Balade d’Automne – Dimanche 14 septembre 2025
DESCRIPTION:INSCRIPTION :  balade d’Automne (2) \nPARCOURS : VTT 35\,2 Km \nÀ noter dès maintenant dans vos agendas ! \nLa commune de Fitz-James organise la 27ème édition de la Balade d’Automne le dimanche 14 septembre 2025.\nUne journée conviviale pour découvrir ou redécouvrir les sentiers de notre territoire ! \nCircuits pédestres et VTT adaptés à tous les niveaux : familles\, promeneurs\, sportifs\, initiés… \nParticipation gratuite et ouverte à tous ! \n 
URL:https://www.commune-fitz-james.fr/evenement/27eme-balade-dautomne-dimanche-14-septembre-2025/
LOCATION:Commune de Fitz-James
ORGANIZER;CN="Mairie":MAILTO:accueil@commune-fitz-james.fr
END:VEVENT
END:VCALENDAR