BEGIN:VCALENDAR
VERSION:2.0
PRODID:-//Site de la commune de Fitz-James - ECPv5.3.1.1//NONSGML v1.0//EN
CALSCALE:GREGORIAN
METHOD:PUBLISH
X-WR-CALNAME:Site de la commune de Fitz-James
X-ORIGINAL-URL:https://www.commune-fitz-james.fr
X-WR-CALDESC:évènements pour Site de la commune de Fitz-James
BEGIN:VTIMEZONE
TZID:Europe/Paris
BEGIN:DAYLIGHT
TZOFFSETFROM:+0100
TZOFFSETTO:+0200
TZNAME:CEST
DTSTART:20250330T010000
END:DAYLIGHT
BEGIN:STANDARD
TZOFFSETFROM:+0200
TZOFFSETTO:+0100
TZNAME:CET
DTSTART:20251026T010000
END:STANDARD
END:VTIMEZONE
BEGIN:VEVENT
DTSTART;TZID=Europe/Paris:20251108T090000
DTEND;TZID=Europe/Paris:20251108T120000
DTSTAMP:20260423T162220
CREATED:20251020T071610Z
LAST-MODIFIED:20251020T071634Z
UID:20439-1762592400-1762603200@www.commune-fitz-james.fr
SUMMARY:DISTRIBUTION GRATUITE DE COMPOST
DESCRIPTION:Le Pays du Clermontois organise une distribution de compost le samedi 8 novembre de 9h à 12h sur son parking.  \nL’évènement est réservé aux habitants de son territoire et rencontre un grand succès à chaque opération depuis plusieurs années.  \nLe Réseau Compost Citoyen animera un stand de sensibilisation au compostage des biodéchets alimentaires et déchets verts
URL:https://www.commune-fitz-james.fr/evenement/20439/
LOCATION:Communauté de Communes du Clermontois\, 9 rue Henri Breuil\, Clermont\, 60600\, France
END:VEVENT
END:VCALENDAR