BEGIN:VCALENDAR
VERSION:2.0
PRODID:-//Site de la commune de Fitz-James - ECPv5.3.1.1//NONSGML v1.0//EN
CALSCALE:GREGORIAN
METHOD:PUBLISH
X-WR-CALNAME:Site de la commune de Fitz-James
X-ORIGINAL-URL:https://www.commune-fitz-james.fr
X-WR-CALDESC:évènements pour Site de la commune de Fitz-James
BEGIN:VTIMEZONE
TZID:Europe/Paris
BEGIN:DAYLIGHT
TZOFFSETFROM:+0100
TZOFFSETTO:+0200
TZNAME:CEST
DTSTART:20260329T010000
END:DAYLIGHT
BEGIN:STANDARD
TZOFFSETFROM:+0200
TZOFFSETTO:+0100
TZNAME:CET
DTSTART:20261025T010000
END:STANDARD
END:VTIMEZONE
BEGIN:VEVENT
DTSTART;TZID=Europe/Paris:20260406T103000
DTEND;TZID=Europe/Paris:20260406T123000
DTSTAMP:20260422T201614
CREATED:20260306T133319Z
LAST-MODIFIED:20260312T131657Z
UID:20660-1775471400-1775478600@www.commune-fitz-james.fr
SUMMARY:MATINÉE DE PAQUES
DESCRIPTION:
URL:https://www.commune-fitz-james.fr/evenement/matinee-de-paques-4/
LOCATION:Résidence séniors du béguinage\, Rue du Blamont\, Fitz-James\, 60600\, France
CATEGORIES:Fête communale
ORGANIZER;CN="Comit%C3%A9%20des%20f%C3%AAtes":MAILTO:cdf.60.fitzjames@gmail.com
END:VEVENT
END:VCALENDAR