BEGIN:VCALENDAR
VERSION:2.0
PRODID:-//Site de la commune de Fitz-James - ECPv5.3.1.1//NONSGML v1.0//EN
CALSCALE:GREGORIAN
METHOD:PUBLISH
X-WR-CALNAME:Site de la commune de Fitz-James
X-ORIGINAL-URL:https://www.commune-fitz-james.fr
X-WR-CALDESC:évènements pour Site de la commune de Fitz-James
BEGIN:VTIMEZONE
TZID:Europe/Paris
BEGIN:DAYLIGHT
TZOFFSETFROM:+0100
TZOFFSETTO:+0200
TZNAME:CEST
DTSTART:20250330T010000
END:DAYLIGHT
BEGIN:STANDARD
TZOFFSETFROM:+0200
TZOFFSETTO:+0100
TZNAME:CET
DTSTART:20251026T010000
END:STANDARD
END:VTIMEZONE
BEGIN:VEVENT
DTSTART;TZID=Europe/Paris:20251206T193000
DTEND;TZID=Europe/Paris:20251206T233000
DTSTAMP:20260423T024714
CREATED:20251107T094833Z
LAST-MODIFIED:20251107T095517Z
UID:20488-1765049400-1765063800@www.commune-fitz-james.fr
SUMMARY:SOIRÉE DANSANTE
DESCRIPTION:Soirée Dansante
URL:https://www.commune-fitz-james.fr/evenement/soiree-dansante/
LOCATION:Salle des Fêtes Pierre Mendès-France\, 9 rue Louis Aragon\, Fitz-James\, 60600\, France
CATEGORIES:Fête communale
ORGANIZER;CN="Comit%C3%A9%20des%20f%C3%AAtes":MAILTO:cdf.60.fitzjames@gmail.com
END:VEVENT
END:VCALENDAR