BEGIN:VCALENDAR
VERSION:2.0
PRODID:-//Site de la commune de Fitz-James - ECPv5.3.1.1//NONSGML v1.0//EN
CALSCALE:GREGORIAN
METHOD:PUBLISH
X-WR-CALNAME:Site de la commune de Fitz-James
X-ORIGINAL-URL:https://www.commune-fitz-james.fr
X-WR-CALDESC:évènements pour Site de la commune de Fitz-James
BEGIN:VTIMEZONE
TZID:Europe/Paris
BEGIN:DAYLIGHT
TZOFFSETFROM:+0100
TZOFFSETTO:+0200
TZNAME:CEST
DTSTART:20250330T010000
END:DAYLIGHT
BEGIN:STANDARD
TZOFFSETFROM:+0200
TZOFFSETTO:+0100
TZNAME:CET
DTSTART:20251026T010000
END:STANDARD
END:VTIMEZONE
BEGIN:VEVENT
DTSTART;VALUE=DATE:20250705
DTEND;VALUE=DATE:20250708
DTSTAMP:20260423T105956
CREATED:20250613T085810Z
LAST-MODIFIED:20250613T085810Z
UID:20105-1751673600-1751932799@www.commune-fitz-james.fr
SUMMARY:FÊTE COMMUNALE
DESCRIPTION:🎉 FÊTE COMMUNALE DE FITZ-JAMES – 5\, 6 et 7 JUILLET 2025 🎡 \nLe Comité des Fêtes de Fitz-James vous donne rendez-vous pour trois jours de festivités à l’occasion de la traditionnelle fête communale ! \n👉 Manèges sur le Champ de Foire tout le week-end ! \n🎇 Samedi 5 juillet – 22h30\nRendez-vous à l’étang pour la remise de lampions aux enfants\, suivie d’un feu d’artifice offert par la Municipalité.\nUn moment féérique à partager en famille ! \n🎠 Lundi 7 juillet – 17h15\n📍 Salle Pierre Mendès-France\nDistribution de tickets gratuits aux enfants de la commune (jusqu’à 13 ans)\n🎟️ Offerts par le Comité des Fêtes et les forains\nLes enfants restent sous la responsabilité de leurs parents. \nNous vous attendons nombreux pour célébrer ensemble ce beau moment de convivialité et de partage ! \n📧 Contact : cdf.60.fitzjames@gmail.com\n📘 Suivez le Comité des Fêtes sur Facebook : Comité Des Fêtes de Fitz-James 60
URL:https://www.commune-fitz-james.fr/evenement/fete-communale-4/
LOCATION:CHAMP DE FOIRE\, Fitz-James\, 60600
CATEGORIES:Fête communale
ORGANIZER;CN="Comit%C3%A9%20des%20f%C3%AAtes":MAILTO:cdf.60.fitzjames@gmail.com
END:VEVENT
BEGIN:VEVENT
DTSTART;TZID=Europe/Paris:20250705T230000
DTEND;TZID=Europe/Paris:20250705T233000
DTSTAMP:20260423T105956
CREATED:20250624T153519Z
LAST-MODIFIED:20250624T153519Z
UID:20136-1751756400-1751758200@www.commune-fitz-james.fr
SUMMARY:GRAND FEU D’ARTIFICE À FITZ-JAMES
DESCRIPTION:Le samedi 5 juillet à 23h00\, la commune de Fitz-James vous donne rendez-vous à l’étang des Nacots Rue Voltaire\,  pour une soirée explosive placée sous le signe de la musique et de la fête ! \nAmbiance assurée avec BREZAC FM qui vous fera vibrer sur les tubes du moment. \nUn feu d’artifice spectaculaire illuminera le ciel de Fitz-James\, à 23h00 précises. \n Venez nombreux partager ce moment festif en famille ou entre amis !
URL:https://www.commune-fitz-james.fr/evenement/grand-feu-dartifice-a-fitz-james/
LOCATION:Etang des nacots\, rue du marais\, Fitz-James\, 60600
CATEGORIES:festival,Fête communale
ORGANIZER;CN="Mairie":MAILTO:accueil@commune-fitz-james.fr
END:VEVENT
END:VCALENDAR